BEGIN:VCALENDAR
VERSION:2.0
PRODID:icalendar-ruby
CALSCALE:GREGORIAN
METHOD:PUBLISH
BEGIN:VEVENT
DTSTAMP:20260421T040521Z
UID:event-117744@stampinup.net
DTSTART;TZID=America/Los_Angeles:20210917T150000
DTEND;TZID=America/Los_Angeles:20210918T170000
CREATED:20210811T134512
DESCRIPTION:Registration for the Creativity Abounds Whimsy &amp\; Wonder St
 amp Camp ends on September 5th!  Don't miss out on this fun event - when
  you purchase the Whimsy &amp\; Wonder Collection\, you will receive a Mak
 e and Take Kit with 13 projects plus the PDF instructions plus video tutor
 ials plus access to an exclusive Facebook Group for bonus projects - FOR F
 REE! \n\nAll you need to do to register to go to my Online Store and or
 der the Whimsy &amp\; Wonder Product Collection (Item 156276 - $109.25 bef
 ore shipping and taxes) using the Host Code 3Q4DKSQA! You can make the pro
 jects at your leisure!\n\nEvent link: https://stampinup.net/crm/events/117
 744
LAST-MODIFIED:20210819T094757
ORGANIZER;CN=Melva Peters:mailto:stampinwithmelva@gmail.com
SUMMARY:Creativity Abounds Stamp Camp - Whimsy & Wonder
URL;VALUE=URI:https://stampinup.net/crm/events/117744
END:VEVENT
END:VCALENDAR
