BEGIN:VCALENDAR
VERSION:2.0
PRODID:icalendar-ruby
CALSCALE:GREGORIAN
METHOD:PUBLISH
BEGIN:VEVENT
DTSTAMP:20260422T150417Z
UID:event-116960@stampinup.net
DTSTART;TZID=America/Los_Angeles:20210829T100000
DTEND;TZID=America/Los_Angeles:20210829T120000
CREATED:20210804T133733
DESCRIPTION:Join me August 29th at 10 am PST for this adorable Sale-a-brati
 on card class! Can't make it? Don't worry... the PDF will include a video 
 link so you can view at your leisure!\nCost: $80\nDate: August 29\, 2021\n
 Time: 10:00 am PST\nIncludes:\n- Penguin Place Stamp Set/ Punch Bundle\n- 
 package of the Subtle Shimmer Sequins\n- package of 20 Basic White Notecar
 ds and envelopes\n- package of the Penguin Playmates 12X12" DSP (free Sale
 -a-bration item)\n- 4 adorable Winter notecard designs and a gift box (th
 at the notecards fit inside of)\n- PDF with video link so you can recreate
  the projects again later with your extra supplies\n- Live Zoom Card Class
  on August 29th\n*********************************************************
 *******************************************\nWe will be using the Penguin 
 Place for our projects. You can see all the amazing products on page 33 of
  the new July-Dec 2021 Mini Catalogue.\n\nDo you already own this Bundle? 
 No problem – just contact me to substitute for product of an equal value
 .\n\nDon't live in Canada? You can purchase just the PDF with video link f
 or $15.\n\n*you must provide your own inks and adhesives\n\nYou can email 
 questions and send paymentas to leahdixon41@gmail.com\n\n\nEvent link: htt
 ps://stampinup.net/crm/events/116960
LAST-MODIFIED:20210810T164859
LOCATION:Zoom\, From the Comfort of Your Home
ORGANIZER;CN=Leah Dixon:mailto:leahdixon41@gmail.com
SUMMARY:Penguin Place SAB class
URL;VALUE=URI:https://stampinup.net/crm/events/116960
END:VEVENT
END:VCALENDAR
