BEGIN:VCALENDAR
VERSION:2.0
PRODID:icalendar-ruby
CALSCALE:GREGORIAN
METHOD:PUBLISH
BEGIN:VEVENT
DTSTAMP:20260422T124537Z
UID:event-115369@stampinup.net
DTSTART;VALUE=DATE:20210726
DTEND;VALUE=DATE:20210802
CREATED:20210726T120346
DESCRIPTION:Want a sampling of all the great new product that Stampin' Up! 
 has to offer? Join me for one of my product shares - or get the "I want it
  all!" package.\nWhen you rsvp please let me know via email which package 
 you are interested in and your mailing address. You will also need to e-tr
 ansfer the $ to my email address: leahdixon41@gmail.com.\n\nDSP SHARE - $4
 5\nRIBBON SHARE - $32\nEMBELLISHMENT SHARE - $36\nSPECIALTY PAPER SHARE - 
 $36\n**I WANT IT ALL SHARE - $145**\n\nAll the details are on my blog:http
 s://stampinwithleah.ca/2021/07/26/august-december-product-shares/\n\nConta
 ct me if you have any questions. \n\nEvent link: https://stampinup.net/cr
 m/events/115369
LAST-MODIFIED:20210726T121520
ORGANIZER;CN=Leah Dixon:mailto:leahdixon41@gmail.com
SUMMARY:Aug-Dec Mini Catalogue Product Shares
URL;VALUE=URI:https://stampinup.net/crm/events/115369
END:VEVENT
END:VCALENDAR
