BEGIN:VCALENDAR
VERSION:2.0
PRODID:icalendar-ruby
CALSCALE:GREGORIAN
METHOD:PUBLISH
BEGIN:VEVENT
DTSTAMP:20260422T122856Z
UID:event-114108@stampinup.net
DTSTART;TZID=America/New_York:20210830T190000
DTEND;TZID=America/New_York:20210830T203000
CREATED:20210713T210101
DESCRIPTION:When you sign up for my Pop-In Zoom Tech/Punch Card Class\, you
  will receive enough material to make four cards\, two cards of two differ
 ent designs. There is an added bonus to this class\, you will learn either
  a new technique or punch art!!\n \n\nPLEASE NOTE: We will be making two 
 of the SAME exact cards as in my August 27th IN PERSON class!!\n \n\nPLEA
 SE RSVP by Aug 20th if you will be participating\, this ensures you will r
 eceive your packets in the mail in time for the class date.\n \n\nClass F
 ee: $15\n \n\nBasic supplies need for class:\nYour preferred adhesive\nSn
 ips/Scissors\nBone Folder\nLiquid Glue\nOther supplies needed will be list
 ed under "Discussion" and in the mailer with your packet.\n \n\nThe Class
  itself will be held via a Zoom meeting. You do not need to have a Zoom ac
 count\, just the app needs to be loaded on the device you will be using.\n
  \n\nYou can still sign up for this class even if you can not make the Zo
 om class. The day of I will email a pdf with instructions.\n \n\nIf you a
 re interested\, please send payment via\nCHECK\nPAYPAL: stampintiz@gmail.c
 om (friends and family option please)\nVENMO: @stampintiz\n\nAlso\, please
  send me your most current email address and postal address.\n \n\nTill t
 hen\, happy stampin! \n\n\nEvent link: https://stampinup.net/crm/events/11
 4108
LAST-MODIFIED:20210801T202544
LOCATION:Zoom - Rehoboth\, MA
ORGANIZER;CN=Tiziana Milano:mailto:stampintiz@gmail.com
SUMMARY:Pop-In Zoom Tech/Punch Card Class - Aug. 20th
URL;VALUE=URI:https://stampinup.net/crm/events/114108
END:VEVENT
END:VCALENDAR
