BEGIN:VCALENDAR
VERSION:2.0
PRODID:icalendar-ruby
CALSCALE:GREGORIAN
METHOD:PUBLISH
BEGIN:VEVENT
DTSTAMP:20260422T124329Z
UID:event-114105@stampinup.net
DTSTART;TZID=America/New_York:20210827T190000
DTEND;TZID=America/New_York:20210827T213000
CREATED:20210713T205415
DESCRIPTION:At my Tech/Punch card class you will make 9 cards\, three of th
 ree designs. Your class fee includes all materials to make cards with enve
 lopes. There is an added bonus to this class\, you will learn either a new
  technique or punch art!!\n \n\nClass Cost: $25.00\n\n\nPLEASE NOTE: Plea
 se pay ahead to guarantee your spot. You are not registered for this class
  until I receive payment.\n\nFollowing payment options accepted:\nPaypal: 
 stampintiz@gmail.com (friends and family please)\n\nVenmo: @stampintiz\n\n
 Check: \n \n\nPlease bring your SNAIL or double sided tape.\n************
 **************************************************************************
 \nIf you need a SNAIL for class please add $10 to class fee. This is yours
  to keep.\nIf you need a refill please add $5 to class fee. This is yours 
 to keep.\nIf you come without one there will be a $3 fee to rent one. \n\n
 \nEvent link: https://stampinup.net/crm/events/114105
LAST-MODIFIED:20210806T060456
LOCATION:Rehoboth\, MA
ORGANIZER;CN=Tiziana Milano:mailto:stampintiz@gmail.com
SUMMARY:Tech/Punch - Card Class - RSVP Aug 20th
URL;VALUE=URI:https://stampinup.net/crm/events/114105
END:VEVENT
END:VCALENDAR
