BEGIN:VCALENDAR
VERSION:2.0
PRODID:icalendar-ruby
CALSCALE:GREGORIAN
METHOD:PUBLISH
BEGIN:VEVENT
DTSTAMP:20260422T123740Z
UID:event-114104@stampinup.net
DTSTART;TZID=America/New_York:20210816T190000
DTEND;TZID=America/New_York:20210816T203000
CREATED:20210713T205153
DESCRIPTION:When you sign up for my Pop-In Zoom Card Class\, you will recei
 ve enough material to make four cards\, two cards of two different designs
 .\n\nIn this class we will be using the Art In Bloom and Butterfly Brillia
 nce stamp set and dies.\n \n\nPLEASE NOTE: We will be making two of the S
 AME exact cards as in my August 13th IN PERSON class!!\n \n\nPLEASE RSVP 
 by Aug 6th if you will be participating\, this ensures you will receive yo
 ur packets in the mail in time for the class date.\n\n\nClass Fee: $15\n 
 \n\nBasic supplies need for class:\nYour prefered adhesive\nSnips/Scissors
 \nBone Folder\nLiquid Glue\nOther supplies needed will be listed under "Di
 scussion" and in the mailer with your packet.\n \n\nThe Class itself will
  be held via a Zoom meeting. You do not need to have a Zoom account\, just
  the app needs to be loaded on the device you will be using.\n\nYou can st
 ill sign up for this class even if you can not make the Zoom class. The da
 y of I will email a pdf with instructions.\n \n\nIf you are interested\, 
 please send payment via\nCHECK\nPAYPAL: stampintiz@gmail.com (friends and 
 family option please)\nVENMO: @stampintiz\n\nAlso\, please send me your mo
 st current email address and postal address.\n\nTill then\, happy stampin!
 \n\n\nEvent link: https://stampinup.net/crm/events/114104
LAST-MODIFIED:20210805T181613
LOCATION:Zoom - Rehoboth\, MA
ORGANIZER;CN=Tiziana Milano:mailto:stampintiz@gmail.com
SUMMARY:Pop-In Zoom SOS Card Class - Aug. 6th
URL;VALUE=URI:https://stampinup.net/crm/events/114104
END:VEVENT
END:VCALENDAR
