BEGIN:VCALENDAR
VERSION:2.0
PRODID:icalendar-ruby
CALSCALE:GREGORIAN
METHOD:PUBLISH
BEGIN:VEVENT
DTSTAMP:20260422T122841Z
UID:event-114103@stampinup.net
DTSTART;TZID=America/New_York:20210813T190000
DTEND;TZID=America/New_York:20210813T213000
CREATED:20210713T204840
DESCRIPTION:At my ALL OCCASION class you will make 9 cards\, three of three
  designs. Your class fee includes all materials to make cards with envelop
 es. \n\nIn this class we will be using the Art In Bloom and Butterfly Bril
 liance stamp set and dies.\n \n\nClass Cost: $25.00\n \n\nPLEASE NOTE: P
 lease pay ahead to guarantee your spot. You are not registered for this cl
 ass until I receive payment.\n \n\nFollowing payment options accepted:\nP
 AYPAL: stampintiz@gmail.com (friends and family please)\n\nVENMO: @stampin
 tiz\n\nCHECK\n \n\nPlease bring your SNAIL or double sided tape.\n\n*****
 **************************************************************************
 *******\nIf you need a SNAIL for class please add $10 to class fee. This i
 s yours to keep.\nIf you need a refill please add $5 to class fee. This is
  yours to keep.\nIf you come without one there will be a $3 fee to rent on
 e. \n\n \n\n\n\n \n\n\n \n\n\nEvent link: https://stampinup.net/crm/eve
 nts/114103
LAST-MODIFIED:20210801T202814
LOCATION:Rehoboth\, MA
ORGANIZER;CN=Tiziana Milano:mailto:stampintiz@gmail.com
SUMMARY:SOS - Card Class - RSVP Aug 6th
URL;VALUE=URI:https://stampinup.net/crm/events/114103
END:VEVENT
END:VCALENDAR
