BEGIN:VCALENDAR
VERSION:2.0
PRODID:icalendar-ruby
CALSCALE:GREGORIAN
METHOD:PUBLISH
BEGIN:VEVENT
DTSTAMP:20260422T222724Z
UID:event-114057@stampinup.net
DTSTART;TZID=America/Chicago:20210724T100000
DTEND;TZID=America/Chicago:20210724T130000
CREATED:20210713T111817
DESCRIPTION:Are you Paper Hoarder? Do you need Help with using your Paper S
 tash Up? If So\, the Design On A Dime With Designer Series Paper Class is 
 For You! We will make 3 different projects using stamps\, inks\, paper\, a
 nd More Importantly Designer Series Paper from the Stampin' Up! Annual Cat
 alog 2021. Class Fee $15.00 FREE With Any $30 or More Order before Shippin
 g and Handling. PLEASE R.S.V.P. BY JULY 19\, 2021. SEATS FILL UP FAST!\n 
 \n\nEvent link: https://stampinup.net/crm/events/114057
LAST-MODIFIED:20210720T083410
LOCATION:Lafayette\, Louisiana\, Chateau Des Lions
ORGANIZER;CN=Lisa Flemming Richards:mailto:lrflemming@yahoo.com
SUMMARY:Design On A Dime With Designer Series Paper
URL;VALUE=URI:https://stampinup.net/crm/events/114057
END:VEVENT
END:VCALENDAR
