BEGIN:VCALENDAR
VERSION:2.0
PRODID:icalendar-ruby
CALSCALE:GREGORIAN
METHOD:PUBLISH
BEGIN:VEVENT
DTSTAMP:20260424T055221Z
UID:event-113512@stampinup.net
DTSTART;TZID=America/New_York:20210727T100000
DTEND;TZID=America/New_York:20210727T200000
CREATED:20210709T124755
DESCRIPTION:BOGO--BUY 1\; GET 1 FREE!\nThis is Open House Style\n\nI don't 
 know about you\, but I love a DEAL\, and I love getting something FREE!!\n
 \nTODAY is that day for YOU!\n\nHow it works:\n\nI will be selling off my 
 retired products. They'll be marked at catalog price. When you buy retired
  items\, you will also be able to order equal value of NEW CATALOG PRODUCT
 S--FREE!\n\nShipping and tax will be charged on the free catalog products 
 only.\n\nExample:\n* buy $50 of retired products\n* fill out order form 
 for $50 of new products\n* pay only $58.30 ($50 + s/h &amp\; tax) total\n*
  take home your retired products\n* wait for your new product order to arr
 ive (direct shipping is available\, as usual\; just ask)\n\n\nNOTES:\n\n\n
 	This event is IN PERSON at my home.\n	There will NOT be a list of what's 
 available ahead of time.\n	There MAY be a separate online event at a later
  date with a list of items still available.\n\n\nI'll see you soon for som
 e great deals!!!\n\nEvent link: https://stampinup.net/crm/events/113512
LAST-MODIFIED:20210715T123556
LOCATION:my home\, 2520 Michael Ave SW\, Wyoming\, MI 49509
ORGANIZER;CN=Stephanie Flath:mailto:stephanieflath@gmail.com
SUMMARY:BOGO RETIRED SALE
URL;VALUE=URI:https://stampinup.net/crm/events/113512
END:VEVENT
END:VCALENDAR
