BEGIN:VCALENDAR
VERSION:2.0
PRODID:icalendar-ruby
CALSCALE:GREGORIAN
METHOD:PUBLISH
BEGIN:VEVENT
DTSTAMP:20260421T133922Z
UID:event-113501@stampinup.net
DTSTART;TZID=America/Chicago:20210825T183000
DTEND;TZID=America/Chicago:20210825T203000
CREATED:20210709T111139
DESCRIPTION:Purchase a kit of your choice and bring it to work on. No addit
 ional cost for the gathering. \n\nEvent link: https://stampinup.net/crm/e
 vents/113501
LAST-MODIFIED:20210823T142938
LOCATION:Robyn's Roost\, 3025 Vega Ave
ORGANIZER;CN=Robyn Rasset:mailto:rrasset@frontier.com
SUMMARY:Kit Club
URL;VALUE=URI:https://stampinup.net/crm/events/113501
END:VEVENT
END:VCALENDAR
