BEGIN:VCALENDAR
VERSION:2.0
PRODID:icalendar-ruby
CALSCALE:GREGORIAN
METHOD:PUBLISH
BEGIN:VEVENT
DTSTAMP:20260419T232726Z
UID:event-112948@stampinup.net
DTSTART;TZID=Australia/Sydney:20210813T200000
DTEND;TZID=Australia/Sydney:20210813T220000
CREATED:20210705T234813
DESCRIPTION:I'm hosting a Card Kit Event using Zoom (and maybe facebook liv
 e for some parts)\, to raise funds for Red Nose Day on Friday 13th August 
 2021. Having personally experienced the loss of a child and miscarriage\, 
 I want to help raise funds to give others in this situation the support th
 ey need\, and also to contribute to research in this area\, to help save l
 ittle lives.\n\nFor all Kits purchased through my online Stampin' Up! stor
 e between now and 13 August\, I will be donating 10% of those sales to Red
  Nose.\n\nI find making and sending cards is a great way to help ourselves
  and others in their time of grief\, so come along and join me and we will
  make some cards together.\n\nBuy your kit online and come along and join 
 in the card making event at 8pm or bring your own kit if you have already 
 donated. (or any craft you have)\n\nMystery Pack - envelopes for sale on
  the night ranging from $5 - $12 each - Stampin' Up! are providing some re
 tired products to go into all the packs and lucky door prizes. Lots of goo
 dies!\n\nRaffle Tickets $10 each\, can be pre purchased by contacting me\
 , payment by direct deposit. Drawn on the night\nAll proceeds raised will
  go to support the work of Red Nose.\n\nSilent Auction of 4 different pro
 ducts - these will be posted on my Facebook page in the event (see the lin
 k) on Friday morning\, and each Auction item will be open as noted in each
  post. They will run at different times through the afternoon. Individual 
 rules for each item will be posted with the pictures. To bid\, place your 
 comment in the comments on the main Auction post.\nhttps://www.facebook.co
 m/events/543604856686651/?active_tab=discussion\n\nExtra Lucky Door Prize 
 - All donations\, Mystery envelope and ticket purchases\, and Kit purchas
 es will make you eligible for the drawer for both Lucky door Prizes.\nLuck
 y Door Prize - for those attending on the day.\n\nRegister your interest
  by RSVP to this event - or email: byfihandcrafts@gmail.com\nZoom link wil
 l be sent by email after purchase of Kit is made\, or donation registered.
  If you don't receive the link by Thursday 12th August please contact me.\
 n\nContact me if you need help with ordering\, other event or crafting que
 stions.\nHost code for the month of August 3BV3AW43 on orders under $250
 \n\nIf you would like to donate funds\, this is the link to my official fu
 ndraising page https://www.rednoseday.org.au/fundraisers/fionafernandez/on
 line\n\nThanks\nFiona . . . Let's Create!\n\n\nPlease note Kit In Event Pr
 oject Resource is only available while stocks last. \nAny of the Kits can
  be used.\n \n\nEvent link: https://stampinup.net/crm/events/112948
LAST-MODIFIED:20210810T015635
LOCATION:online Zoom
ORGANIZER;CN=Fiona Fernandez:mailto:Byfihandcrafts@gmail.com
SUMMARY:Red Nose Day Card Kit Fundraiser Event
URL;VALUE=URI:https://stampinup.net/crm/events/112948
END:VEVENT
END:VCALENDAR
