BEGIN:VCALENDAR
VERSION:2.0
PRODID:icalendar-ruby
CALSCALE:GREGORIAN
METHOD:PUBLISH
BEGIN:VEVENT
DTSTAMP:20260421T140243Z
UID:event-11060@stampinup.net
DTSTART;TZID=America/New_York:20200113T123000
DTEND;TZID=America/New_York:20200113T143000
CREATED:20190919T141025
DESCRIPTION:\n\nEvent link: https://stampinup.net/crm/events/11060
LAST-MODIFIED:20190919T141025
LOCATION:Hobby Lobby\, Liverpool\, Liverpool/Clay
ORGANIZER;CN=Linda Tarolli:mailto:lt_stamps@yahoo.com
SUMMARY:Salt City Stamping
URL;VALUE=URI:https://stampinup.net/crm/events/11060
END:VEVENT
END:VCALENDAR
