BEGIN:VCALENDAR
VERSION:2.0
PRODID:icalendar-ruby
CALSCALE:GREGORIAN
METHOD:PUBLISH
BEGIN:VEVENT
DTSTAMP:20260420T053639Z
UID:event-110090@stampinup.net
DTSTART;TZID=America/Denver:20210911T093000
DTEND;TZID=America/Denver:20210911T113000
CREATED:20210619T072902
DESCRIPTION:Class is full!!  But\, I have another in October!\nCome and ge
 t started on your Holiday Cards!!  We'll make 12 cards:  4 each of 3 des
 igns!   \n\nThere will be three classes offers:  9/11\, 10/9 and 11/6.
   Cost is $20 each or $50 for all three!  Payment must be made in advan
 ce to hold your spot.\n\nSpace is limited to 9 people per class\, so regis
 ter early!  (REGISTRATION CLOSES ON SEPT 4)\n\nI'm so excited to be holdi
 ng these classes again!  I missed them last year!!  I sincerely hope you
  can join me for some stamping fun!\n \n\nEvent link: https://stampinup.n
 et/crm/events/110090
LAST-MODIFIED:20210909T054346
LOCATION:Tammy's Stamp Studio\, 6115 Medford Ct NW
ORGANIZER;CN=Tammy Fite:mailto:stampwithtammy@gmail.com
SUMMARY:Holiday Card Class
URL;VALUE=URI:https://stampinup.net/crm/events/110090
END:VEVENT
END:VCALENDAR
