BEGIN:VCALENDAR
VERSION:2.0
PRODID:icalendar-ruby
CALSCALE:GREGORIAN
METHOD:PUBLISH
BEGIN:VEVENT
DTSTAMP:20260423T162252Z
UID:event-109141@stampinup.net
DTSTART;TZID=America/Chicago:20210701T180000
DTEND;TZID=America/Chicago:20210701T200000
CREATED:20210613T073323
DESCRIPTION:Join the Stampin' Up! fun and become part of our Simply Sweet S
 tampers family! \n\nClick HERE for more information.\n\nEvent link: https
 ://stampinup.net/crm/events/109141
LAST-MODIFIED:20240524T202847
LOCATION:Debra's House
ORGANIZER;CN=Debra Harrison:mailto:ddharrison25@gmail.com
SUMMARY:Simply Sweet Stampers Team Meeting
URL;VALUE=URI:https://stampinup.net/crm/events/109141
RRULE:FREQ=MONTHLY;BYDAY=1TH
END:VEVENT
END:VCALENDAR
