BEGIN:VCALENDAR
VERSION:2.0
PRODID:icalendar-ruby
CALSCALE:GREGORIAN
METHOD:PUBLISH
BEGIN:VEVENT
DTSTAMP:20260425T181842Z
UID:event-108473@stampinup.net
DTSTART;TZID=America/New_York:20210920T000000
DTEND;TZID=America/New_York:20210920T200000
CREATED:20210609T033045
DESCRIPTION:Monthly Card Club Registration Deadline ends at 8pm Eastern Tim
 e\n\nEvent link: https://stampinup.net/crm/events/108473
LAST-MODIFIED:20220907T172216
ORGANIZER;CN=Karen McNall:mailto:karen@inspiredbygram.com
SUMMARY:Monthly Card Club Registration Deadline
URL;VALUE=URI:https://stampinup.net/crm/events/108473
END:VEVENT
END:VCALENDAR
