BEGIN:VCALENDAR
VERSION:2.0
PRODID:icalendar-ruby
CALSCALE:GREGORIAN
METHOD:PUBLISH
BEGIN:VEVENT
DTSTAMP:20260425T101811Z
UID:event-108459@stampinup.net
DTSTART;TZID=America/New_York:20210917T200000
DTEND;TZID=America/New_York:20210917T210000
CREATED:20210608T200951
DESCRIPTION:Find me Live on my YouTube channel Friday nights at 8pm eastern
  time.  Channel URL:  http://events.r20.constantcontact.com/register/ev
 ent?oeidk=a07ei3j0tq97d8ef4d9&amp\;llr=cmx7w54ab\n \n\nEvent link: https:
 //stampinup.net/crm/events/108459
LAST-MODIFIED:20211127T083100
ORGANIZER;CN=Karen McNall:mailto:karen@inspiredbygram.com
SUMMARY:Friday Night Crafting with Karen
URL;VALUE=URI:https://stampinup.net/crm/events/108459
END:VEVENT
END:VCALENDAR
