BEGIN:VCALENDAR
VERSION:2.0
PRODID:icalendar-ruby
CALSCALE:GREGORIAN
METHOD:PUBLISH
BEGIN:VEVENT
DTSTAMP:20260422T095637Z
UID:event-108422@stampinup.net
DTSTART;TZID=America/New_York:20210621T190000
DTEND;TZID=America/New_York:20210621T200000
CREATED:20210608T154812
DESCRIPTION:Get ready for summer by coming to my summer themed Facebook par
 ty! It'll last about an hour and happen in my VIP group. There will be cha
 tting\, stamping and prizes! \n\nhttps://www.facebook.com/groups/sassysta
 mpersvip/\n\nEvent link: https://stampinup.net/crm/events/108422
LAST-MODIFIED:20210608T154812
LOCATION:SassyPaperCrafters VIP Group (Facebook)\, https://www.facebook.com
 /groups/sassystampersvip/
ORGANIZER;CN=Sarah McGuire:mailto:saschatilo@gmail.com
SUMMARY:Stamp Into Summer Facebook Party!
URL;VALUE=URI:https://stampinup.net/crm/events/108422
END:VEVENT
END:VCALENDAR
