BEGIN:VCALENDAR
VERSION:2.0
PRODID:icalendar-ruby
CALSCALE:GREGORIAN
METHOD:PUBLISH
BEGIN:VEVENT
DTSTAMP:20260423T140757Z
UID:event-108279@stampinup.net
DTSTART;TZID=America/Los_Angeles:20210608T070000
DTEND;TZID=America/Los_Angeles:20210621T080000
CREATED:20210608T073321
DESCRIPTION:Leah's $1000 Party and Prizes Event!\nAbout this Event\nI’m s
 o excited to announce this fabulous event!\nWith the Annual Catalogue laun
 ching last month\, I’m sure your wish list is long! This is a great excu
 se to purchase from your wish list and earn some freebies while you’re a
 t it!\nJust sign up no later than June 21st indicating that you’d like t
 o participate – you’ll need an order of at least $100\, and I’ll nee
 d 10 people to sign up. All 10 orders from the 10 participants will be put
  together to make up one $1000.00 order. All Hostess Benefits of the $1000
  party will be dispersed between all 10 participants.\nTurn in at least a 
 $100 order no later than June 21st. Please email your order to me. DO NOT
  enter your order online\, I must enter it in order for it to count toward
 s this special. You can contact me with a credit card number for the order
  or send an etransfer to me.\nEveryone who turns in at least a $100 order 
 will get a PRIZE. All the Hostess Benefits that go with a $1000 party will
  be split between all of the participants. You read that correctly\, every
 one gets a prize! If you choose to take up 2 spots of the Party you'll get
  two free product prizes!\nPRIZES INCLUDE:\n1 participant will get to choo
 se $30 in FREE SU! items of their choice\n2 participants will get to choos
 e $20 in FREE SU! items of their choice\n4 participants will get to choose
  $15 in FREE SU! items of their choice\n3 participants will get to choose 
 $10 in FREE SU! items of their choice\n*In addition\, all participants wil
 l receive a Party Puffin Project Tutorial PDF from me and an 1/8th of a pa
 ck of Pattern Party DSP (2 each of 12 designs - that's 24 - 6X6 sheets)! (
 ~ a $25 value)\n\nParticipants will be put in for a random drawing of the 
 prizes.\n** I will notify all participants of their prizes on June 22nd. I
  will need your prize orders by 5:00 p.m. on June 23rd\, so make your wish
  list and plan ahead:)\nSIGN UP to be one of the 10 Participants --RSVP by
  June 21st!!\n\n\nEvent link: https://stampinup.net/crm/events/108279
LAST-MODIFIED:20210609T150210
LOCATION:online\, Canada
ORGANIZER;CN=Leah Dixon:mailto:leahdixon41@gmail.com
SUMMARY:Leah's $1000 Party!!
URL;VALUE=URI:https://stampinup.net/crm/events/108279
END:VEVENT
END:VCALENDAR
