BEGIN:VCALENDAR
VERSION:2.0
PRODID:icalendar-ruby
CALSCALE:GREGORIAN
METHOD:PUBLISH
BEGIN:VEVENT
DTSTAMP:20260420T065359Z
UID:event-107158@stampinup.net
DTSTART;TZID=America/Los_Angeles:20220914T100000
DTEND;TZID=America/Los_Angeles:20220914T120000
CREATED:20210602T090747
DESCRIPTION:For members: we are making some new fun-fold cards! If you are 
 not a member\, and would like to join\, please contact me for a reservatio
 n.  Spaces are limited\n\nEvent link: https://stampinup.net/crm/events/10
 7158
LAST-MODIFIED:20210602T090747
ORGANIZER;CN=Julie Baum:mailto:juliebaum14@gmail.com
SUMMARY:Stamp Club
URL;VALUE=URI:https://stampinup.net/crm/events/107158
END:VEVENT
END:VCALENDAR
