BEGIN:VCALENDAR
VERSION:2.0
PRODID:icalendar-ruby
CALSCALE:GREGORIAN
METHOD:PUBLISH
BEGIN:VEVENT
DTSTAMP:20260422T042041Z
UID:event-104939@stampinup.net
DTSTART;TZID=America/Denver:20210928T130000
DTEND;TZID=America/Denver:20210928T140000
CREATED:20210518T220220
DESCRIPTION:Join me for my facebook live where I share fun techniques and p
 roduct demonstrations using Stampin'Up products.\n\nEvent link: https://st
 ampinup.net/crm/events/104939
LAST-MODIFIED:20210518T220220
ORGANIZER;CN=Karina Chin:mailto:kchin2@telus.net
SUMMARY:Facebook Live Stamping Demonstration
URL;VALUE=URI:https://stampinup.net/crm/events/104939
END:VEVENT
END:VCALENDAR
