BEGIN:VCALENDAR
VERSION:2.0
PRODID:icalendar-ruby
CALSCALE:GREGORIAN
METHOD:PUBLISH
BEGIN:VEVENT
DTSTAMP:20260422T001609Z
UID:event-104651@stampinup.net
DTSTART;TZID=Europe/London:20210603T110000
DTEND;TZID=Europe/London:20210603T113000
CREATED:20210517T050202
DESCRIPTION:This series of four classes take place on Thursdays at 11am on 
 my YouTube channel and this month features the Hand-Penned stamp set and a
  Blushing Bride ink pad..\nEach week I'll be making a different card using
  the stamp set and using different techniques. The kit costs £35.00 and i
 ncludes the stamp set\, ink pad and all the supplies you need to make eac
 h of the cards. If you wish to upgrade\, for £55. I can add the dies to y
 our kit\, they are not essential for the cards we are making but always lo
 vely to have the coordinating dies!  You can craft along with me or enjoy
  this fun relaxing class at any time once the video is released as it will
  stay on my YouTube channel on the Coffee and Card playlist.\nFor more det
 ails or to book a place please click on the link below.\nHappy crafting Li
 nda xx\n\n\nEvent link: https://stampinup.net/crm/events/104651
LAST-MODIFIED:20210527T061405
LOCATION:On Line\, https://www.youtube.com/playlist?list=PLsiPMBeurM-h4HAWa
 Xm7U9h601IePbRKd
ORGANIZER;CN=Linda Ellis:mailto:linda@strawberry.me.uk
SUMMARY:Coffee and Card - Hand-Penned Petals
URL;VALUE=URI:https://stampinup.net/crm/events/104651
END:VEVENT
END:VCALENDAR
