BEGIN:VCALENDAR
VERSION:2.0
PRODID:icalendar-ruby
CALSCALE:GREGORIAN
METHOD:PUBLISH
BEGIN:VEVENT
DTSTAMP:20260423T031533Z
UID:event-10454@stampinup.net
DTSTART;TZID=America/Chicago:20191025T090000
DTEND;TZID=America/Chicago:20191027T170000
CREATED:20190918T011331
DESCRIPTION:I’m excited to be hosting my first 3-day retreat. This is go
 ing to be a weekend full of fun and crafting. You can relax\, craft and j
 ust enjoy your time with friends. \n\nStarts Friday\, October 25 at 9 am 
 – Ends on Sunday\, October 27 at 5 pm\n\nStampin’ retreat will be held
  at the La Quinta Inn &amp\; Suites! \nClick to view this wonderful faci
 lity!\n\nThe crop room is open Friday at 9 am through Sunday at 5 pm. Eac
 h attendee will enjoy their own table and have access to electrical outle
 ts\, tool stations and the convenience of shopping in my on-site stores. 
 Need a break from crafting? Relax on the outdoor patio\, take a nap in y
 our room\, take advantage of the Fitness Center or enjoy the beautiful out
 door pool &amp\; spa! Wanna stretch your legs? Take a trip to the Grand 
 Prairie Outlet Mall\, only a mile from our location plus other shopping in
  the area.\n\nThe retreat includes:\n\n	Your own cropping table\n	Use of m
 y Stampin' Up! stamps\, ink\, punches\, and dies/folders\n	Meals (Breakfas
 t will be provided by the hotel for hotel guests only)\n	$50 goody bag\n	G
 ifts\n	Games/Chance to win prizes\n	A fun weekend to work on anything you 
 want - cardmaking\, scrapbooking\, sewing\, reading\, et\n\n\nRetreat Pric
 ing:\nPricing includes\, full crop activities\, 8 make and takes and BINGO
  on Saturday night!! Deadline to register is 10/18/29.\n\n	Retreat fee - $
 200 per person (for all three days) OR\n	$60 for Friday\, $80 for Saturda
 y (includes Bingo) and $60 for Sunday\n\nHotel Pricing:\n\nOvernight acco
 mmodations for 2 nights\, Friday and Saturday\, are separate from the retr
 eat rate. Book your accommodations at LQ.com – promo code CGSCRP. Deadl
 ine for the promo code is 09/27/19. Reserve now and you can cancel later i
 f needed.\n\nGuest rooms will be double queen beds/or a king bed if you wo
 uld like to have the room to yourself. \n\nSingle occupancy – 1 King be
 d - $95 per night (plus tax)\nDouble occupancy – 2 Double beds - $109 pe
 r night (plus tax)\n \n\n	4 Friends in a Room: $27.25 per person/per nig
 ht\n	3 Friends in a Room: $36.34 per person/per night\n	2 Friends in a Roo
 m: $54.5 per person/per night\n	Peaceful Slumber\, just you in a room: $9
 5/per night\n\nMore info:\n\nThere are drink holders and trash cans at eac
 h table. We do not have lamps (the crop room is very well lit).\n\nMassag
 e services are available on Saturday. The therapist requires a minimum of
  4 total hours. The cost is $40 for a 1/2 hour and $70 for 1 hour (she do
 es require cash).  \n\nCheck in is 9:00 am Friday.\nCheck out is 5:00 Su
 nday.\n\nWe provide coffee\, fresh sweet tea\, unsweet tea\, and lemonade 
 during your stay.  Cold soft drinks and bottled water are available for 
 purchase from the hotel.   \n\nThere is a microwave available for guest
 s to use. As a courtesy we ask each guest to consider the needs of others
  when deciding which items to microwave. \n\nThe group will need to provi
 de their own paper goods and plastic ware for meals not provided by the re
 treat. \n\nThere is an ice machine in the hotel for guest use for their b
 everages. If needed\, you can bring coolers or other equipment which requ
 ire ice.\n\nMeal schedule: Friday: Lunch 1:00 pm\, Snack 4:00 pm. Dinner
 : 6:30 pm. Saturday: Breakfast: 8:00 to 9:30 am (for Friday night guests
 ).  Lunch: 1:00 pm. Snack 4:00 pm. Dinner: 6:30 pm  Sunday:   Brea
 kfast: 8:00 to 9:30 am (for Saturday night guests).  Lunch: 1:00 pm. \n
 \nThe Inn is located in South Grand Prairie\, on I-20. (Exit Great Southwe
 st) next to Walmart on the south side of the highway and convenient to man
 y restaurants\, Michaels\, Ikea\, etc. \n\nReminders: I can't guarantee s
 eating with friends. Please add as a note on your registration form if you
  would like to sit with friends. \n\nThanks!!!\n\nEvent link: https://sta
 mpinup.net/crm/events/10454
LAST-MODIFIED:20190918T014643
LOCATION:La Quinta Inn\, 2131 West I-20 Grand Prairie\, TX 75052
ORGANIZER;CN=Yolanda Nixon:mailto:picrafters@yahoo.com
SUMMARY:Weekend Getaway Retreat!
URL;VALUE=URI:https://stampinup.net/crm/events/10454
END:VEVENT
END:VCALENDAR
