BEGIN:VCALENDAR
VERSION:2.0
PRODID:icalendar-ruby
CALSCALE:GREGORIAN
METHOD:PUBLISH
BEGIN:VEVENT
DTSTAMP:20260423T131052Z
UID:event-10446@stampinup.net
DTSTART;TZID=America/Chicago:20190920T170000
DTEND;TZID=America/Chicago:20190920T220000
CREATED:20190918T004538
DESCRIPTION:Come out for some crafting fun where I do all the work for you\
 , and you get to make adorable greeting cards to send out to your friends 
 and family!\n\nFriday\, September 20th at Yolanda's Craft Studio (my home)
 \n\nCard Class (sneak peek of one of the cards)\n\n	4 designs\, 1 of each 
 (4 cards total)\n	4 different themes\, such as birthday\, get well\, etc.\
 n	Fee: FREE with a qualifying order (Min $20) OR just $15 to cover the sup
 plies that we use.\n\n\n\nScrapbook Class:\n\n	3 12x12 pages \n	Fee: FRE
 E with a qualifying order (Min $20) OR just $15 to cover the supplies tha
 t we use.\n\n\n\nStamp-A-Stack of Card Class\n\n	4 designs\, 5 of each (20
  cards total)\n	4 different themes\, different than card class\n	Fee: FRE
 E with a qualifying order (Min $45*) OR just $40 to cover the supplies th
 at we use.\n	Theme: Christmas Cards\n\nRSVP link:  https://conta.cc/2zKK
 fFA\n\nEvent link: https://stampinup.net/crm/events/10446
LAST-MODIFIED:20190918T014450
LOCATION:Yolanda's Craft Studio\, Grand Prairie\, TX 
ORGANIZER;CN=Yolanda Nixon:mailto:picrafters@yahoo.com
SUMMARY:September Monthly Classes
URL;VALUE=URI:https://stampinup.net/crm/events/10446
END:VEVENT
END:VCALENDAR
