BEGIN:VCALENDAR
VERSION:2.0
PRODID:icalendar-ruby
CALSCALE:GREGORIAN
METHOD:PUBLISH
BEGIN:VEVENT
DTSTAMP:20260420T153906Z
UID:event-1044@stampinup.net
DTSTART;TZID=America/Los_Angeles:20191006T130000
DTEND;TZID=America/Los_Angeles:20191006T160000
CREATED:20190911T081659
DESCRIPTION:Come join me in this product based class.  You'll go home with
  4 lovely cards featuring the Perfectly Plaid stamp set and as well as the
  stamp set and Pine Tree punch so that you can create more cards at home. 
 Cost is $45 - includes stamp set and punch plus 4 cards Please bring your 
 own Adhesive.\n\nRSVP by September 12th so that I can order your supplies!
 \n\nI'm offering this class by mail too - $45 plus postage (will vary depe
 nding on where you live in Canada\, to a maximum mailing cost of $18) \n\
 n\nEvent link: https://stampinup.net/crm/events/1044
LAST-MODIFIED:20190927T103700
LOCATION:My Studio - Ladysmith\, BC
ORGANIZER;CN=Melva Peters:mailto:stampinwithmelva@gmail.com
SUMMARY:Perfectly Plaid Card Class
URL;VALUE=URI:https://stampinup.net/crm/events/1044
END:VEVENT
END:VCALENDAR
