BEGIN:VCALENDAR
VERSION:2.0
PRODID:icalendar-ruby
CALSCALE:GREGORIAN
METHOD:PUBLISH
BEGIN:VEVENT
DTSTAMP:20260420T191345Z
UID:event-104173@stampinup.net
DTSTART;TZID=America/Chicago:20210605T100000
DTEND;TZID=America/Chicago:20210605T110000
CREATED:20210512T131720
DESCRIPTION:Grab your orange box and join me for a relaxed Saturday morning
  ZOOM while we assemble our kits.\n* Message me for the ZOOM link here: St
 ampLadyKatie@aol.com\n* Sign-Up for the monthly Craft Kits here\nhttps://b
 it.ly/PaperPumpkinMe\n\nEvent link: https://stampinup.net/crm/events/10417
 3
LAST-MODIFIED:20251207T144334
ORGANIZER;CN=Katie Johnson:mailto:katiejohnson@inkcrediblecrafts.com
SUMMARY:Paper Pumpkin ZOOM
URL;VALUE=URI:https://stampinup.net/crm/events/104173
END:VEVENT
END:VCALENDAR
