BEGIN:VCALENDAR
VERSION:2.0
PRODID:icalendar-ruby
CALSCALE:GREGORIAN
METHOD:PUBLISH
BEGIN:VEVENT
DTSTAMP:20260425T021607Z
UID:event-103826@stampinup.net
DTSTART;VALUE=DATE:20210716
DTEND;VALUE=DATE:20210730
CREATED:20210510T095620
DESCRIPTION:Virtual Card Class - Earn for FREE when you place a $35 or more
  order of product between the 16th and the 30th of the month in my online 
 store using my designated host code!\n\nEvent link: https://stampinup.net/
 crm/events/103826
LAST-MODIFIED:20220627T053038
ORGANIZER;CN=Donna Singleton:mailto:donnasingleton33@yahoo.com
SUMMARY:Virtual Card Class earning period starts!
URL;VALUE=URI:https://stampinup.net/crm/events/103826
END:VEVENT
END:VCALENDAR
