BEGIN:VCALENDAR
VERSION:2.0
PRODID:icalendar-ruby
CALSCALE:GREGORIAN
METHOD:PUBLISH
BEGIN:VEVENT
DTSTAMP:20260422T091820Z
UID:event-102925@stampinup.net
DTSTART;TZID=America/New_York:20210925T090000
DTEND;TZID=America/New_York:20210926T180000
CREATED:20210503T190953
DESCRIPTION:Join us for my Christmas Retreat.\n\nEvent link: https://stampi
 nup.net/crm/events/102925
LAST-MODIFIED:20210503T190953
LOCATION:Hilton Garden Inn\, Findlay\, OH\, 123 main
ORGANIZER;CN=Julie Gilson:mailto:julie48188@gmail.com
SUMMARY:Christmas Retreat
URL;VALUE=URI:https://stampinup.net/crm/events/102925
END:VEVENT
END:VCALENDAR
