BEGIN:VCALENDAR
VERSION:2.0
PRODID:icalendar-ruby
CALSCALE:GREGORIAN
METHOD:PUBLISH
BEGIN:VEVENT
DTSTAMP:20260424T040335Z
UID:event-102782@stampinup.net
DTSTART;TZID=America/Chicago:20210504T000100
DTEND;TZID=America/Chicago:20210614T235900
CREATED:20210503T121412
DESCRIPTION:Customer Ordering for the New 2021-2022 Annual Catalog begins t
 oday.\nThe Connect\, Craft\, &amp\; Collect Host Promotion begins today -H
 ost a $250 party or submit your own order of $250 (before tax &amp\; shipp
 ing) to receive an extra $25 in Host Rewards to spend on more Stampin' Up!
  stuff!\n\nEvent link: https://stampinup.net/crm/events/102782
LAST-MODIFIED:20210503T122359
ORGANIZER;CN=Carol Payne:mailto:carol@carolpaynestamps.com
SUMMARY:Connect\, Craft\, & Collect Host Promotion
URL;VALUE=URI:https://stampinup.net/crm/events/102782
END:VEVENT
END:VCALENDAR
