BEGIN:VCALENDAR
VERSION:2.0
PRODID:icalendar-ruby
CALSCALE:GREGORIAN
METHOD:PUBLISH
BEGIN:VEVENT
DTSTAMP:20260419T232813Z
UID:event-101837@stampinup.net
DTSTART;TZID=Australia/Sydney:20210529T130000
DTEND;TZID=Australia/Sydney:20210529T160000
CREATED:20210427T213314
DESCRIPTION:\nI will be doing a facebook Live at 1pm - free event - to sho
 w some of the New Annual Catalogue 2021-2022\n\nHere is the YouTube link
  to my live\nhttps://youtu.be/Xd4nBCcI9a4\n\nFollowed by a Zoom for those 
 who wish to pay $15 *\n(plus $6 postage if required - I can deliver some o
 n my West bound run or meet in person for collection in Pyrmont\, *in Aust
 ralia)\n\nAnd receive some gifts and samples.\nHave some fun with Make and
  Take and games.\n\nI still have a few packs left\, let me know if you wou
 ld like to order a party pack.\n\nFiona - Byfihandcrafts@gmail.com\n\n .
  . . Let’s Create!\n\n\n \n\n\nEvent link: https://stampinup.net/crm/ev
 ents/101837
LAST-MODIFIED:20210531T062424
ORGANIZER;CN=Fiona Fernandez:mailto:Byfihandcrafts@gmail.com
SUMMARY:Catalogue Launch Party - see in event for the link to my live video
URL;VALUE=URI:https://stampinup.net/crm/events/101837
END:VEVENT
END:VCALENDAR
