BEGIN:VCALENDAR
VERSION:2.0
PRODID:icalendar-ruby
CALSCALE:GREGORIAN
METHOD:PUBLISH
BEGIN:VEVENT
DTSTAMP:20260419T233510Z
UID:event-101822@stampinup.net
DTSTART;TZID=Australia/Sydney:20210925T140000
DTEND;TZID=Australia/Sydney:20210925T170000
CREATED:20210427T204205
DESCRIPTION:This class we'll be using the Expressions in Ink Suite\, page 9
 6 in the annual Catalogue May 2021-April 2022\n\nI will be running the cla
 ss using Zoom\, online – link and instructions emailed the day before.\n
 Customers $30\, Team members $20. Plus $5 postage if required.\nPayment r
 equired before Kit sent out - please contact me to discuss.\nPlease let me
  know by Sunday 12th September evening if you wish to join in.\nPayment d
 eadline for this class is 15th September 2021 so I have time to send them 
 out in the post with the current lockdown. (Within Australia only).\n\nDo
 n't forget\, when you spend over $50 with me as your demonstrator I will 
 send you a Thank you gift!\nMy Current Host Code for purchases under $250 
 can be found on my Specials page.\n\nCost includes a precut kit of the car
 d\, papers and embellishments\, and written instructions for 3 cards/items
 .\nYou will need your own stamps\, inks and adhesives.\n\nRSVP on this eve
 nt or email to let me know if you would like to join in.\nMy Email is: byf
 ihandcrafts@gmail.com\n\nLet me know if you need more information\, or an
 y help with ordering.\nFiona . . . Let’s Create!\n\n\nEvent link: https:
 //stampinup.net/crm/events/101822
LAST-MODIFIED:20210926T065016
LOCATION:Online
ORGANIZER;CN=Fiona Fernandez:mailto:Byfihandcrafts@gmail.com
SUMMARY:Card making class - Expressions in Ink Suite
URL;VALUE=URI:https://stampinup.net/crm/events/101822
END:VEVENT
END:VCALENDAR
