BEGIN:VCALENDAR
VERSION:2.0
PRODID:icalendar-ruby
CALSCALE:GREGORIAN
METHOD:PUBLISH
BEGIN:VEVENT
DTSTAMP:20260419T233301Z
UID:event-101821@stampinup.net
DTSTART;TZID=Australia/Sydney:20210828T140000
DTEND;TZID=Australia/Sydney:20210828T170000
CREATED:20210427T204143
DESCRIPTION:This class we'll be using the Blackberry Beauty Suite in the Au
 gust - December 2021 Mini Catalogue\, page 44\n\nI will be running the cla
 ss using Zoom\, online – link and instructions emailed the day before.\n
 Customers $30\, Team members $20. Plus postage if required.\n\nLinks to th
 e suite will be updated once the Catalogue goes live to customers\nand if 
 you spend over $50 with me as your demonstrator I will send you a Thank yo
 u gift!\n\nCost includes a precut kit of the card\, papers and embellishme
 nts\, and written instructions for 3 cards/items.\nYou will need your own 
 stamps\, inks and adhesives.\n\nRSVP or email to let me know if you would 
 like to join in\, and payment is required prior to the class and kits bein
 g sent out a week before.\nbyfihandcrafts@gmail.com\n\nLet me know if you 
 need more information\, or any help with ordering.\nFiona . . . Let’s C
 reate!\n\n\n\nEvent link: https://stampinup.net/crm/events/101821
LAST-MODIFIED:20210825T063438
LOCATION:Online
ORGANIZER;CN=Fiona Fernandez:mailto:Byfihandcrafts@gmail.com
SUMMARY:Online Card making class - Blackberry Beauty Suite
URL;VALUE=URI:https://stampinup.net/crm/events/101821
END:VEVENT
END:VCALENDAR
