BEGIN:VCALENDAR
VERSION:2.0
PRODID:icalendar-ruby
CALSCALE:GREGORIAN
METHOD:PUBLISH
BEGIN:VEVENT
DTSTAMP:20260419T232709Z
UID:event-101820@stampinup.net
DTSTART;TZID=Australia/Sydney:20210724T140000
DTEND;TZID=Australia/Sydney:20210724T170000
CREATED:20210427T204127
DESCRIPTION:This class will be using a Kit Pack I send you\, and other prod
 ucts and stamps of your choice.\nI will include card layouts for you and w
 e all create our cards using the same layouts.\n\nLot's of fun and mystery
  to see what we all come up with!\n\nRSVP to register your interest.\nCust
 omers $30\, Team members $20\n\n\nEmail for more information or to ask any
  questions byfihandcrafts@gmail.com\n\nFiona . . . Let's Create!\n \n\nEv
 ent link: https://stampinup.net/crm/events/101820
LAST-MODIFIED:20210701T042212
LOCATION:Online
ORGANIZER;CN=Fiona Fernandez:mailto:Byfihandcrafts@gmail.com
SUMMARY:Card Class Online - Mystery card!
URL;VALUE=URI:https://stampinup.net/crm/events/101820
END:VEVENT
END:VCALENDAR
