BEGIN:VCALENDAR
VERSION:2.0
PRODID:icalendar-ruby
CALSCALE:GREGORIAN
METHOD:PUBLISH
BEGIN:VEVENT
DTSTAMP:20260419T232918Z
UID:event-101819@stampinup.net
DTSTART;TZID=Australia/Sydney:20210627T140000
DTEND;TZID=Australia/Sydney:20210627T170000
CREATED:20210427T204058
DESCRIPTION:My next Card making online class was on the 26th June 2021 now 
 on the Sunday 27th June at pm\,\nand we will be using the beautiful Fine A
 rt Floral Suite in the January-June 2021 Mini Catalogue\, page 32.\nStocks
  are getting low\, so order soon if you want the whole collection.\n\nThe 
 stamps and dies will still be available after June\, but sold separately.\
 n\nI will be running the class using Zoom\, online\, unless otherwise note
 d.\nCustomers $30\, Team members $20. Plus postage if required.\n\nHere is
  the link to the whole Suite\n\nJust the Stamp Set\n\nThis is available u
 ntil the end of June as the whole collection (while stocks last).\nand if 
 you spend over $50 with me as your demonstrator I will send you a Thank yo
 u gift.\n\nCost includes a precut kit of the card\, papers and embellishme
 nts\, and written instructions for 3 cards/items.\nYou need your own stamp
 s\, inks and adhesives.\n\nRSVP or email to let me know if you would like 
 to join in\, and payment is required prior to the class and kits being sen
 t out a week before.\nbyfihandcrafts@gmail.com\n\nLet me know if you you n
 eed more information\, \nFiona\n\nEvent link: https://stampinup.net/crm/e
 vents/101819
LAST-MODIFIED:20210620T045521
LOCATION:Online 
ORGANIZER;CN=Fiona Fernandez:mailto:Byfihandcrafts@gmail.com
SUMMARY:Card making class Fine Art Floral
URL;VALUE=URI:https://stampinup.net/crm/events/101819
END:VEVENT
END:VCALENDAR
