BEGIN:VCALENDAR
VERSION:2.0
PRODID:icalendar-ruby
CALSCALE:GREGORIAN
METHOD:PUBLISH
BEGIN:VEVENT
DTSTAMP:20260422T170457Z
UID:event-1012@stampinup.net
DTSTART;TZID=America/Halifax:20191121T130000
DTEND;TZID=America/Halifax:20191121T150000
CREATED:20190911T081121
DESCRIPTION:My November afternoon class runs from 1 to 3 pm and costs $23.0
 0 per person.  We’ll make 4 different projects with the theme of 'last 
 minute Christmas ideas'.  As always\, I'll e-mail you written instruction
 s after the event so that you can recreate your projects at home too.  Al
 l tools and materials will be provided\, just bring a basic craft kit cont
 aining adhesive\, scissors and bone folder.  If you need to purchase adhe
 sive I always have stock here in my craft room for you to buy.  Contact m
 e 2 weeks before if you need to purchase paper snips and/or a bone folder.
  \n\nAs I need to order and prepare materials in advance\, please remembe
 r to book and pay for your seat at my crafting table at least one week bef
 ore the date of the class.  The deadline to sign up for this class is Thu
 rsday November 14th.\n\nEvent link: https://stampinup.net/crm/events/1012
LAST-MODIFIED:20190911T081121
LOCATION:Bass River\, NS
ORGANIZER;CN=Tracy Elsom:mailto:tracy.elsom@gmail.com
SUMMARY:Afternoon Class
URL;VALUE=URI:https://stampinup.net/crm/events/1012
END:VEVENT
END:VCALENDAR
