BEGIN:VCALENDAR
VERSION:2.0
PRODID:icalendar-ruby
CALSCALE:GREGORIAN
METHOD:PUBLISH
BEGIN:VEVENT
DTSTAMP:20260419T224834Z
UID:event-100644@stampinup.net
DTSTART;VALUE=DATE:20210813
DTEND;VALUE=DATE:20210815
CREATED:20210419T091333
DESCRIPTION:Let's gather together for our Annual Weekend Retreat and enjoy 
 stamping\, fun and fellowship.\n\nAll Blue Mountain Team Memebers are invi
 ted to this event. Watch for details by in your Team Email.\n\nEvent link:
  https://stampinup.net/crm/events/100644
LAST-MODIFIED:20210419T091333
LOCATION:Jini's Classroom\, Clarkesville Ga
ORGANIZER;CN=Jini Merck:mailto:stampwithjini@gmail.com
SUMMARY:Blue Mountain Stampers Weekend Getaway
URL;VALUE=URI:https://stampinup.net/crm/events/100644
END:VEVENT
END:VCALENDAR
