BEGIN:VCALENDAR
VERSION:2.0
PRODID:icalendar-ruby
CALSCALE:GREGORIAN
METHOD:PUBLISH
BEGIN:VEVENT
DTSTAMP:20260424T020701Z
UID:event-100428@stampinup.net
DTSTART;TZID=America/Denver:20210501T100000
DTEND;TZID=America/Denver:20210501T120000
CREATED:20210417T173856
DESCRIPTION:Every month the Treasure Stampers get together virtually to lea
 rn\, share and recognize. We'd love to have you join us no matter where yo
 u live in Canada! Join my coast to coast team today and come join us for s
 ome fun! \n\nEvent link: https://stampinup.net/crm/events/100428
LAST-MODIFIED:20250226T102332
LOCATION:From the Comfort of Your Home
ORGANIZER;CN=Sherry Roth:mailto:sherry@stampedtreasures.com
SUMMARY:Treasure Stampers Virtual Gathering
URL;VALUE=URI:https://stampinup.net/crm/events/100428
RRULE:FREQ=MONTHLY;BYDAY=1SA
END:VEVENT
END:VCALENDAR
